Workbook
Name OLE_LINK1: 'A18'!$E$39
Name OLE_LINK3: 'A16'!$H$41
Name OLE_LINK5: 'A16'!$H$41
Name OLE_LINK6: 'A19'!$E$41

Sheet TOC
A1: Table of Contents
A2: Table A1.–Southeast Alaska Chinook salmon catches.
A3: Table A2.–Estimates of incidental mortality associated with Southeast Alaska AABM Chinook salmon treaty catches.
A4: Table A3.–Estimates of incidental mortality associated with Southeast Alaska Chinook salmon total1 catches.
A5: Table A4.–Canadian Transboundary (TBR) Rivers (Taku, Stikine, Alsek) ISBM Chinook salmon landed catch (LC), releases (Rel.), and incidental mortality (IM).
A6: Table A5.–Northern British Columbia (NBC) AABM Chinook salmon catches.
A7: Table A6.–Estimates of incidental mortality associated with Northern British Columbia (NBC) AABM Chinook salmon catches.
A8: Table A7.–Northern British Columbia (NBC) ISBM Chinook salmon landed catch (LC), releases (Rel.), and incidental mortality (IM).
A9: Table A8.–Central British Columbia ISBM Chinook salmon landed catch (LC), releases (Rel.), and incidental mortality (IM).
A10: Table A9.–West Coast Vancouver Island (WCVI) AABM Chinook salmon catches.
A11: Table A10.–Estimates of incidental mortality associated with West Coast Vancouver Island (WCVI) AABM Chinook salmon catches.
A12: Table A11.–West Coast Vancouver Island (WCVI) ISBM Chinook salmon landed catch (LC), releases (Rel.), and incidental mortality (IM).
... A26: Table A25.–Estimated total mortality (LC and IM) associated with Chinook salmon catches in U.S. and Canadian AABM and ISBM fisheries.

Sheet A1
A1: Table A1. Southeast Alaska aggregate abundance-based management (AABM) Chinook salmon catches.
B2: Southeast Alaska
A3: Year | B3: Troll | C3: Net | D3: Sport | E3: Total | F3: Add-on | G3: Terminal Exclusion | H3: Treaty Catch
A4: 1975 | B4: 287342 | C4: 13365 | D4: 17000 | E4: 317707
A5: 1976 | B5: 231239 | C5: 10523 | D5: 17000 | E5: 258762
A6: 1977 | B6: 271735 | C6: 13443 | D6: 17000 | E6: 302178
A7: 1978 | B7: 375919 | C7: 25492 | D7: 17000 | E7: 418411
A8: 1979 | B8: 337672 | C8: 28388 | D8: 16581 | E8: 382641
A9: 1980 | B9: 303643 | C9: 20114 | D9: 20213 | E9: 343970
A10: 1981 | B10: 248782 | C10: 18952 | D10: 21300 | E10: 289034
A11: 1982 | B11: 241938 | C11: 46992 | D11: 25756 | E11: 314686
A12: 1983 | B12: 269821 | C12: 19516 | D12: 22321 | E12: 311658
A13: 1984 | B13: 235622 | C13: 32405 | D13: 22050 | E13: 290077
A14: 1985 | B14: 215811 | C14: 33870 | D14: 24858 | E14: 274539 | F14: 6246 | H14: 268293
A15: 1986 | B15: 237703 | C15: 22099 | D15: 22551 | E15: 282353 | F15: 11091 | H15: 271262
A16: 1987 | B16: 242562 | C16: 15532 | D16: 24324 | E16: 282418 | F16: 17095 | H16: 265323
A17: 1988 | B17: 231364 | C17: 21788 | D17: 26160 | E17: 279312 | F17: 22525 | H17: 256787
A18: 1989 | B18: 235716 | C18: 24245 | D18: 31071 | E18: 291032 | F18: 21510 | H18: 269522
A19: 1990 | B19: 287939 | C19: 27712 | D19: 51218 | E19: 366869 | F19: 45873 | H19: 320996
A20: 1991 | B20: 264106 | C20: 34864 | D20: 60492 | E20: 359462 | F20: 61476 | H20: 297986
A21: 1992 | B21: 183759 | C21: 32140 | D21: 42892 | E21: 258791 | F21: 36811 | H21: 221980
A22: 1993 | B22: 226866 | C22: 27991 | D22: 49246 | E22: 304103 | F22: 32910 | H22: 271193
A23: 1994 | B23: 186331 | C23: 35654 | D23: 42365 | E23: 264350 | F23: 29185 | H23: 235165
A24: 1995 | B24: 138117 | C24: 47955 | D24: 49667 | E24: 235739 | F24: 58800 | H24: 176939
A25: 1996 | B25: 141452 | C25: 37298 | D25: 57509 | E25: 236259 | F25: 72599 | G25: 8663 | H25: 154997
A26: 1997 | B26: 246409 | C26: 25069 | D26: 71524 | E26: 343002 | F26: 46463 | G26: 9843 | H26: 286696
A27: 1998 | B27: 192066 | C27: 23514 | D27: 55013 | E27: 270593 | F27: 25021 | G27: 2420 | H27: 243152
A28: 1999 | B28: 146219 | C28: 32720 | D28: 72081 | E28: 251020 | F28: 47725 | G28: 4453 | H28: 198842
A29: 2000 | B29: 158717 | C29: 41400 | D29: 63173 | E29: 263290 | F29: 74316 | G29: 2481 | H29: 186493
A30: 2001 | B30: 153280 | C30: 40163 | D30: 72291 | E30: 265734 | F30: 77287 | G30: 1528 | H30: 186919
A31: 2002 | B31: 325308 | C31: 31689 | D31: 69537 | E31: 426534 | F31: 68164 | G31: 1237 | H31: 357133
A32: 2003 | B32: 330692 | C32: 39374 | D32: 69370 | E32: 439436 | F32: 57228 | G32: 2056 | H32: 380152
A33: 2004 | B33: 354658 | C33: 64038 | D33: 80572 | E33: 499268 | F33: 75955 | G33: 6295 | H33: 417018
A34: 2005 | B34: 338451 | C34: 68176 | D34: 86575 | E34: 493202 | F34: 64408 | G34: 40154 | H34: 388640
A35: 2006 | B35: 282315 | C35: 67436 | D35: 85794 | E35: 435545 | F35: 48404 | G35: 27047 | H35: 360094
A36: 2007 | B36: 268146 | C36: 53688 | D36: 82849 | E36: 404683 | F36: 68364 | G36: 8051 | H36: 328268
... A53: 2024 | B53: 151355 | C53: 25399 | D53: 59322 | E53: 236077 | F53: 28265 | G53: 0 | H53: 207811
A54: Note: small discrepancies between cumulative columns may be due to rounding.
A55: Note: Troll, net, sport and total catches include catch of Southeast Alaska hatchery-origin fish and terminal exclusion catch; catches that count towards the all-gear ceiling (with hatchery add-on and terminal exclusion subtracted) are shown as Treaty catch.

Sheet A2
A1: Table A2. Estimates of incidental mortality associated with Southeast Alaska aggregate abundance-based management (AABM) Chinook salmon treaty catches.
A2: Year | B2: Troll | D2: Sport | F2: Net | H2: Total Treaty
B3: LIM | C3: SIM | D3: LIM | E3: SIM | F3: LIM | G3: SIM | H3: IM
A4: 1985 | B4: 15319 | C4: 79828 | D4: 2407 | E4: 3359 | F4: 6545 | G4: 41606 | H4: 149064
A5: 1986 | B5: 21169 | C5: 63137 | D5: 1990 | E5: 2778 | F5: 6880 | G5: 25268 | H5: 121222
A6: 1987 | B6: 35097 | C6: 66688 | D6: 2120 | E6: 2960 | F6: 1142 | G6: 10730 | H6: 118737
A7: 1988 | B7: 11997 | C7: 34995 | D7: 2325 | E7: 3245 | F7: 6563 | G7: 15046 | H7: 74171
A8: 1989 | B8: 24573 | C8: 47841 | D8: 2799 | E8: 3907 | F8: 7305 | G8: 32912 | H8: 119337
A9: 1990 | B9: 20490 | C9: 49423 | D9: 4494 | E9: 15554 | F9: 3401 | G9: 16562 | H9: 109924
A10: 1991 | B10: 22633 | C10: 41165 | D10: 2831 | E10: 5292 | F10: 3605 | G10: 18803 | H10: 94329
A11: 1992 | B11: 24737 | C11: 43468 | D11: 4832 | E11: 7129 | F11: 24728 | G11: 103344 | H11: 208238
A12: 1993 | B12: 20148 | C12: 44953 | D12: 4277 | E12: 5979 | F12: 2580 | G12: 12194 | H12: 90131
A13: 1994 | B13: 24611 | C13: 45623 | D13: 2747 | E13: 6051 | F13: 8937 | G13: 39091 | H13: 127060
A14: 1995 | B14: 13745 | C14: 29666 | D14: 3020 | E14: 5291 | F14: 3440 | G14: 12441 | H14: 67603
A15: 1996 | B15: 14576 | C15: 27280 | D15: 3404 | E15: 4242 | F15: 221 | G15: 427 | H15: 50150
... A43: 2024 | B43: 6005 | C43: 7759 | D43: 6729 | E43: 8480 | F43: 1859 | G43: 9672 | H43: 40505
A44: Note: small discrepancies between cumulative columns may be due to rounding.
A45: Note: LIM = Legal Incidental Mortality, SIM = Sublegal Incidental Mortality.

Sheet A3
A1: Table A3. Estimates of incidental mortality associated with Southeast Alaska Chinook salmon total catches.
A2: Year | B2: Troll | D2: Sport | F2: Net | H2: Total
B3: LIM | C3: SIM | D3: LIM | E3: SIM | F3: LIM | G3: SIM | H3: IM
A4: 1985 | B4: 15584 | C4: 81237 | D4: 2597 | E4: 3625 | F4: 6575 | G4: 41746 | H4: 151364
A5: 1986 | B5: 21690 | C5: 64744 | D5: 2356 | E5: 3289 | F5: 7224 | G5: 26491 | H5: 125794
A6: 1987 | B6: 36565 | C6: 69648 | D6: 2542 | E6: 3547 | F6: 1200 | G6: 11058 | H6: 124560
A7: 1988 | B7: 12502 | C7: 36744 | D7: 2733 | E7: 3815 | F7: 6813 | G7: 15442 | H7: 78049
A8: 1989 | B8: 25226 | C8: 49392 | D8: 3247 | E8: 4531 | F8: 8785 | G8: 39395 | H8: 130576
A9: 1990 | B9: 21761 | C9: 53067 | D9: 5565 | E9: 19262 | F9: 4499 | G9: 21260 | H9: 125414
A10: 1991 | B10: 23659 | C10: 43731 | D10: 3794 | E10: 7092 | F10: 4548 | G10: 22738 | H10: 105562
A11: 1992 | B11: 25574 | C11: 45574 | D11: 5863 | E11: 8651 | F11: 26524 | G11: 110309 | H11: 222495
A12: 1993 | B12: 20758 | C12: 46882 | D12: 4935 | E12: 6899 | F12: 3353 | G12: 15090 | H12: 97917
A13: 1994 | B13: 25489 | C13: 47395 | D13: 3281 | E13: 7228 | F13: 10987 | G13: 47326 | H13: 141706
A14: 1995 | B14: 15106 | C14: 33534 | D14: 4225 | E14: 7403 | F14: 7970 | G14: 29946 | H14: 98184
A15: 1996 | B15: 15502 | C15: 30411 | D15: 5022 | E15: 6259 | F15: 1349 | G15: 4968 | H15: 63511
... A43: 2024 | B43: 6145 | C43: 8024 | D43: 7566 | E43: 9535 | F43: 3729 | G43: 19027 | H43: 54027
A44: Note: small discrepancies between cumulative columns may be due to rounding.
A45: Note: LIM = Legal Incident Mortality, SIM = Sublegal Incident Mortality.
A46: Note: Includes total Treaty, terminal exclusion, and hatchery add-on estimates of incidental mortality.

Sheet A4
A1: Table A4. Canadian Transboundary (TBR) Rivers (Taku, Stikine, Alsek) individual stock-based management (ISBM) Chinook salmon landed catch (LC), releases (Rel.), and incidental mortality (IM).
A2: Year | B2: Transboundary Rivers
B3: First Nations | E3: Net | H3: Sport | K3: Total
B4: LC | C4: Rel. | D4: IM | E4: LC | F4: Rel. | G4: IM | H4: LC | I4: Rel. | J4: IM | K4: LC1 | L4: Rel.1,2 | M4: IM
A5: 1975 | B5: 1024 | C5: 0 | D5: 47 | E5: 178 | F5: 0 | G5: 8 | H5: 0 | I5: 0 | J5: 0 | K5: 1202 | L5: 0 | M5: 55
A6: 1976 | B6: 1074 | C6: 0 | D6: 49 | E6: 236 | F6: 0 | G6: 11 | H6: 200 | I6: 0 | J6: 14 | K6: 1510 | L6: 0 | M6: 74
A7: 1977 | B7: 450 | C7: 0 | D7: 21 | E7: 62 | F7: 0 | G7: 3 | H7: 300 | I7: 0 | J7: 21 | K7: 812 | L7: 0 | M7: 45
A8: 1978 | B8: 750 | C8: 0 | D8: 34 | E8: 100 | F8: 0 | G8: 5 | H8: 300 | I8: 0 | J8: 21 | K8: 1150 | L8: 0 | M8: 60
A9: 1979 | B9: 2150 | C9: 0 | D9: 99 | E9: 872 | F9: 0 | G9: 40 | H9: 734 | I9: 0 | J9: 51 | K9: 3756 | L9: 0 | M9: 190
A10: 1980 | B10: 822 | C10: 0 | D10: 38 | E10: 1869 | F10: 0 | G10: 86 | H10: 354 | I10: 0 | J10: 24 | K10: 3045 | L10: 0 | M10: 148
A11: 1981 | B11: 736 | C11: 0 | D11: 34 | E11: 977 | F11: 0 | G11: 45 | H11: 556 | I11: 0 | J11: 38 | K11: 2269 | L11: 0 | M11: 117
A12: 1982 | B12: 1018 | C12: 0 | D12: 47 | E12: 1823 | F12: 0 | G12: 84 | H12: 429 | I12: 0 | J12: 30 | K12: 3270 | L12: 0 | M12: 161
A13: 1983 | B13: 1375 | C13: 0 | D13: 63 | E13: 1553 | F13: 0 | G13: 71 | H13: 355 | I13: 0 | J13: 24 | K13: 3283 | L13: 0 | M13: 158
A14: 1984 | B14: 802 | C14: 0 | D14: 37 | E14: 515 | F14: 0 | G14: 24 | H14: 569 | I14: 0 | J14: 39 | K14: 1886 | L14: 0 | M14: 100
A15: 1985 | B15: 1066 | C15: 0 | D15: 49 | E15: 759 | F15: 0 | G15: 35 | H15: 654 | I15: 0 | J15: 45 | K15: 2479 | L15: 0 | M15: 129
A16: 1986 | B16: 1707 | C16: 0 | D16: 79 | E16: 1668 | F16: 0 | G16: 77 | H16: 570 | I16: 0 | J16: 39 | K16: 3945 | L16: 0 | M16: 195
... A54: 2024 | B54: 111 | C54: 0 | D54: 6 | E54: 0 | F54: 248 | G54: 124 | H54: 0 | I54: 0 | J54: 0 | K54: 111 | L54: 248 | M54: 130
A55: 1The LC and Rel columns in historical years may include either just large fish (mid-eye to fork length of 660 mm or greater) or all sizes. This will impact the estimated IM values. Edits to this table will be undertaken by the Transboundary Technical Committee (TTC) in preparation for the next report.
A56: 2The release mortality component of the Net IM is estimated using the PSC-TTC adopted release mortality rate (RM rate) of 0.50 for all in-river net fisheries, across all years. This revised RM rate has not yet been reviewed nor adopted by the CTC.

Sheet A5
A1: Table A5. Northern British Columbia (NBC) aggregate abundance-based management (AABM) Chinook salmon catches.
A2: Year | B2: Northern British Columbia
B3: Area 1-5 Troll1 | C3: Areas 1,2E, 2W Sport | D3: Total
A4: 1975 | B4: 228121 | D4: 228121
A5: 1976 | B5: 190267 | D5: 190267
A6: 1977 | B6: 130899 | C6: 106 | D6: 131005
A7: 1978 | B7: 146054 | C7: 125 | D7: 146179
A8: 1979 | B8: 147576 | C8: 0 | D8: 147576
A9: 1980 | B9: 157198 | C9: 200 | D9: 157398
A10: 1981 | B10: 153065 | C10: 184 | D10: 153249
A11: 1982 | B11: 173472 | C11: 215 | D11: 173687
A12: 1983 | B12: 162837 | C12: 90 | D12: 162927
A13: 1984 | B13: 185134 | C13: 171 | D13: 185305
A14: 1985 | B14: 165845 | C14: 600 | D14: 166445
A15: 1986 | B15: 175715 | C15: 1153 | D15: 176868
A16: 1987 | B16: 177457 | C16: 2644 | D16: 180101
A17: 1988 | B17: 152369 | C17: 7059 | D17: 159428
... A53: 2024 | B53: 76590 | C53: 30233 | D53: 106823
A54: Note: Troll (Areas 1-5) and tidal sport (Areas 1, 2E, 2W) are the components of the NBC AABM fishery.
A55: 1 Since 1998, the catch accounting year for troll fisheries was set from October 1 to September 30. To make comparisons to previous years more meaningful, the same catch accounting period was applied for years prior to 1998.

Sheet A6
A1: Table A6. Estimates of incidental mortality associated with Northern British Columbia (NBC) aggregate abundance-based management (AABM) Chinook salmon catches.
A2: Year | B2: Area 1-5 Troll1 | D2: Areas 1, 2E, 2W Sport2 | F2: Total
B3: LIM | C3: SIM | D3: LIM | E3: SIM | F3: IM
A4: 1985 | B4: 2819 | C4: 12405 | D4: 97 | F4: 15321
A5: 1986 | B5: 2987 | C5: 19637 | D5: 204 | F5: 22828
A6: 1987 | B6: 4307 | C6: 40626 | D6: 535 | F6: 45468
A7: 1988 | B7: 4829 | C7: 40749 | D7: 1505 | F7: 47083
A8: 1989 | B8: 3740 | C8: 35135 | D8: 4068 | F8: 42943
A9: 1990 | B9: 5195 | C9: 46172 | D9: 3248 | F9: 54615
A10: 1991 | B10: 4385 | C10: 43848 | D10: 2734 | F10: 50967
A11: 1992 | B11: 4985 | C11: 49332 | D11: 3634 | F11: 57951
A12: 1993 | B12: 4444 | C12: 36696 | D12: 4353 | F12: 45493
A13: 1994 | B13: 3709 | C13: 27882 | D13: 4524 | F13: 36115
A14: 1995 | B14: 3721 | C14: 26123 | D14: 2935 | F14: 32779
A15: 1996 | B15: 0 | D15: 2916 | F15: 2916
A16: 1997 | B16: 1415 | D16: 6021 | F16: 7436
A17: 1998 | B17: 1854 | D17: 6102 | F17: 7956
A18: 1999 | B18: 920 | C18: 674 | D18: 3605 | F18: 5199
A19: 2000 | B19: 169 | C19: 147 | D19: 4707 | F19: 5023
A20: 2001 | B20: 376 | C20: 276 | D20: 5955 | F20: 6607
A21: 2002 | B21: 2778 | C21: 1083 | D21: 8417 | F21: 12278
A22: 2003 | B22: 4772 | C22: 740 | D22: 9519 | F22: 15031
A23: 2004 | B23: 9336 | C23: 1225 | D23: 21237 | F23: 31798
A24: 2005 | B24: 7896 | C24: 446 | D24: 14478 | F24: 22820
A25: 2006 | B25: 3300 | C25: 3958 | D25: 15148 | F25: 22406
A26: 2007 | B26: 2282 | C26: 3771 | D26: 12830 | F26: 18883
A27: 2008 | B27: 1321 | C27: 1748 | D27: 8292 | F27: 11361
A28: 2009 | B28: 2069 | C28: 3625 | D28: 7373 | F28: 13067
A29: 2010 | B29: 2798 | C29: 3164 | D29: 11056 | F29: 17018
... A43: 2024 | B43: 2060 | C43: 4134 | D43: 7071 | F43: 13265
A44: Note: Troll (Areas 1-5) and tidal sport (Areas 1, 2E, 2W) are the components of the NBC AABM fishery.
A45: Note: LIM = Legal Incident Mortality, SIM = Sublegal Incident Mortality.
A46: 1 Since 1998, the catch accounting year for troll fisheries was set from October 1 to September 30. To make comparisons to previous years more meaningful, the same catch accounting period was applied for years prior to 1998.
A47: 2 Release data are not available for 1996 to 1998.

Sheet A7
A1: Table A7. Northern British Columbia (NBC) individual stock-based management (ISBM) Chinook salmon landed catch (LC), releases (Rel.), and incidental mortality (IM).
A2: Year | B2: Area 1-5 First Nations | E2: Area 1-5 Net | H2: Tyee Test Fishery | K2: Area 3-5 Sport | N2: Area 1-5 Freshwater Sport | Q2: Total
B3: LC | C3: Rel. | D3: IM | E3: LC | F3: Rel. | G3: IM | H3: LC | I3: Rel. | J3: IM | K3: LC | L3: Rel. | M3: IM | N3: LC | O3: Rel. | P3: IM | Q3: LC | R3: Rel. | S3: IM
A4: 1975 | B4: 4055 | D4: 187 | E4: 24786 | F4: 0 | G4: 1140 | H4: 309 | J4: 14 | Q4: 29150 | R4: 0 | S4: 1341
A5: 1976 | B5: 2791 | D5: 128 | E5: 15849 | F5: 0 | G5: 729 | H5: 256 | J5: 12 | Q5: 18896 | R5: 0 | S5: 869
A6: 1977 | B6: 6998 | D6: 322 | E6: 43926 | F6: 0 | G6: 2021 | H6: 270 | J6: 12 | K6: 1670 | M6: 60 | N6: 2158 | P6: 149 | Q6: 55022 | R6: 0 | S6: 2564
A7: 1978 | B7: 5363 | D7: 247 | E7: 27731 | F7: 0 | G7: 1276 | H7: 193 | J7: 9 | K7: 1668 | M7: 60 | N7: 6610 | P7: 456 | Q7: 41565 | R7: 0 | S7: 2048
A8: 1979 | B8: 5266 | D8: 242 | E8: 40208 | F8: 0 | G8: 1850 | H8: 432 | J8: 20 | K8: 2523 | M8: 91 | N8: 1960 | P8: 135 | Q8: 50389 | R8: 0 | S8: 2338
A9: 1980 | B9: 10121 | D9: 466 | E9: 26612 | F9: 0 | G9: 1224 | H9: 283 | J9: 13 | K9: 3867 | M9: 139 | N9: 4515 | P9: 312 | Q9: 45398 | R9: 0 | S9: 2154
A10: 1981 | B10: 11115 | D10: 511 | E10: 41379 | F10: 0 | G10: 1903 | H10: 345 | J10: 16 | K10: 2760 | M10: 99 | N10: 2613 | P10: 180 | Q10: 58212 | R10: 0 | S10: 2709
A11: 1982 | B11: 13255 | D11: 610 | E11: 44844 | F11: 0 | G11: 2063 | H11: 243 | J11: 11 | K11: 3760 | M11: 135 | N11: 2726 | P11: 188 | Q11: 64828 | R11: 0 | S11: 3007
A12: 1983 | B12: 15532 | D12: 714 | E12: 16752 | F12: 0 | G12: 771 | H12: 362 | J12: 17 | K12: 4092 | M12: 147 | N12: 5374 | P12: 371 | Q12: 42112 | R12: 0 | S12: 2020
A13: 1984 | B13: 11408 | D13: 525 | E13: 31072 | F13: 0 | G13: 1429 | H13: 587 | J13: 27 | K13: 2300 | M13: 83 | N13: 3426 | P13: 236 | Q13: 48793 | R13: 0 | S13: 2300
A14: 1985 | B14: 15794 | D14: 727 | E14: 39543 | F14: 0 | G14: 1819 | H14: 545 | J14: 25 | K14: 3600 | M14: 130 | N14: 3186 | P14: 220 | Q14: 62668 | R14: 0 | S14: 2921
A15: 1986 | B15: 24448 | D15: 1125 | E15: 23902 | F15: 0 | G15: 1099 | H15: 752 | J15: 35 | K15: 3950 | M15: 142 | N15: 4410 | P15: 304 | Q15: 57462 | R15: 0 | S15: 2705
A16: 1987 | B16: 16329 | D16: 751 | E16: 17494 | F16: 0 | G16: 805 | H16: 725 | J16: 33 | K16: 4150 | M16: 149 | N16: 3625 | P16: 250 | Q16: 42323 | R16: 0 | S16: 1988
A17: 1988 | B17: 21727 | D17: 999 | E17: 30620 | F17: 0 | G17: 1409 | H17: 740 | J17: 34 | K17: 4300 | M17: 155 | N17: 3745 | P17: 258 | Q17: 61132 | R17: 0 | S17: 2855
... A25: 1996 | B25: 13345 | D25: 614 | E25: 30589 | F25: 0 | G25: 4464 | H25: 2490 | J25: 115 | K25: 3382 | M25: 122 | N25: 1250 | P25: 86 | Q25: 51056 | R25: 0 | S25: 5401
A26: 1997 | B26: 14610 | D26: 672 | E26: 20831 | F26: 0 | G26: 2399 | H26: 1524 | J26: 70 | K26: 0 | M26: 0 | Q26: 36965 | R26: 0 | S26: 3141
A27: 1998 | B27: 20622 | D27: 949 | E27: 6136 | F27: 0 | G27: 347 | H27: 1698 | J27: 78 | K27: 4750 | M27: 171 | Q27: 33206 | R27: 0 | S27: 1545
A28: 1999 | B28: 27399 | D28: 1260 | E28: 8662 | F28: 0 | G28: 408 | H28: 2724 | J28: 125 | K28: 11700 | M28: 421 | Q28: 50485 | R28: 0 | S28: 2214
A29: 2000 | B29: 23476 | D29: 1080 | E29: 19715 | F29: 0 | G29: 909 | H29: 3134 | J29: 144 | K29: 8600 | M29: 310 | Q29: 54925 | R29: 0 | S29: 2443
A30: 2001 | B30: 23508 | D30: 1081 | E30: 22667 | F30: 0 | G30: 1043 | H30: 2743 | J30: 126 | K30: 11000 | M30: 396 | Q30: 59918 | R30: 0 | S30: 2646
A31: 2002 | B31: 14125 | D31: 650 | E31: 13515 | F31: 0 | G31: 622 | H31: 1696 | J31: 78 | K31: 8000 | M31: 288 | Q31: 37336 | R31: 0 | S31: 1638
A32: 2003 | B32: 20950 | D32: 964 | E32: 13400 | F32: 0 | G32: 616 | H32: 1830 | J32: 84 | K32: 8000 | M32: 288 | N32: 5711 | P32: 394 | Q32: 49891 | R32: 0 | S32: 2346
A33: 2004 | B33: 20548 | D33: 945 | E33: 11917 | F33: 0 | G33: 554 | H33: 1197 | J33: 55 | K33: 8000 | M33: 288 | Q33: 41662 | R33: 0 | S33: 1842
A34: 2005 | B34: 17553 | D34: 807 | E34: 5416 | F34: 5502 | G34: 4368 | H34: 1136 | I34: 0 | J34: 52 | K34: 8000 | M34: 288 | Q34: 32105 | R34: 5502 | S34: 5515
A35: 2006 | B35: 17262 | D35: 794 | E35: 10571 | F35: 9904 | G35: 7968 | H35: 1178 | I35: 0 | J35: 54 | K35: 8000 | M35: 288 | Q35: 37011 | R35: 9904 | S35: 9104
A36: 2007 | B36: 14087 | D36: 648 | E36: 9520 | F36: 10273 | G36: 8011 | H36: 1302 | I36: 0 | J36: 60 | K36: 8000 | M36: 288 | Q36: 32909 | R36: 10273 | S36: 9007
A37: 2008 | B37: 14963 | C37: 0 | D37: 688 | E37: 4619 | F37: 3359 | G37: 2829 | H37: 1293 | I37: 0 | J37: 59 | K37: 11281 | L37: 5036 | M37: 1207 | N37: 0 | O37: 0 | P37: 0 | Q37: 32156 | R37: 8395 | S37: 4783
A38: 2009 | B38: 13083 | C38: 0 | D38: 602 | E38: 4348 | F38: 2003 | G38: 1642 | H38: 1189 | I38: 0 | J38: 55 | K38: 12417 | L38: 4941 | M38: 1233 | N38: 0 | O38: 0 | P38: 0 | Q38: 31037 | R38: 6944 | S38: 3532
A39: 2010 | B39: 13693 | D39: 630 | E39: 2191 | F39: 0 | G39: 101 | H39: 959 | J39: 44 | K39: 9916 | L39: 4678 | M39: 1101 | N39: 2689 | P39: 186 | Q39: 29448 | R39: 4678 | S39: 2062
A40: 2011 | B40: 10863 | D40: 500 | E40: 3586 | F40: 0 | G40: 165 | H40: 976 | J40: 45 | K40: 19502 | L40: 6903 | M40: 1800 | N40: 2540 | P40: 175 | Q40: 37467 | R40: 6903 | S40: 2685
A41: 2012 | B41: 8189 | D41: 377 | E41: 788 | F41: 3067 | G41: 2661 | H41: 575 | I41: 0 | J41: 26 | K41: 11842 | L41: 4457 | M41: 1135 | N41: 421 | P41: 29 | Q41: 21815 | R41: 7524 | S41: 4228
A42: 2013 | B42: 8557 | D42: 394 | E42: 2126 | F42: 3163 | G42: 2739 | H42: 547 | I42: 0 | J42: 25 | K42: 13763 | L42: 5438 | M42: 1360 | N42: 2024 | O42: 958 | P42: 324 | Q42: 27017 | R42: 9559 | S42: 4842
A43: 2014 | B43: 11936 | D43: 549 | E43: 2632 | F43: 3317 | G43: 3022 | H43: 482 | I43: 0 | J43: 22 | K43: 14694 | L43: 9983 | M43: 2116 | N43: 2302 | O43: 178 | P43: 193 | Q43: 32046 | R43: 13478 | S43: 5902
A44: 2015 | B44: 17524 | D44: 806 | E44: 2434 | F44: 2300 | G44: 2090 | H44: 750 | I44: 9 | J44: 43 | K44: 17616 | L44: 6020 | M44: 1591 | N44: 3442 | O44: 0 | P44: 237 | Q44: 41766 | R44: 8329 | S44: 4767
A45: 2016 | B45: 9051 | D45: 416 | E45: 1222 | F45: 2219 | G45: 1851 | H45: 392 | I45: 0 | J45: 18 | K45: 12710 | L45: 3436 | M45: 1004 | N45: 2246 | O45: 0 | P45: 155 | Q45: 25621 | R45: 5655 | S45: 3444
A46: 2017 | B46: 9015 | D46: 415 | E46: 1655 | F46: 1506 | G46: 1301 | H46: 375 | I46: 0 | J46: 17 | K46: 14409 | L46: 7114 | M46: 1650 | N46: 1240 | O46: 909 | P46: 260 | Q46: 26694 | R46: 9529 | S46: 3643
A47: 2018 | B47: 11766 | D47: 541 | E47: 0 | F47: 1378 | G47: 1119 | H47: 671 | I47: 20 | J47: 50 | K47: 15654 | L47: 8435 | M47: 1905 | N47: 0 | O47: 0 | P47: 0 | Q47: 28091 | R47: 9833 | S47: 3615
...

Sheet A8
A1: Table A8. Central British Columbia individual stock-based management (ISBM) Chinook salmon landed catch (LC), releases (Rel.), and incidental mortality (IM).
A2: Year | B2: Central British Columbia
B3: First Nations | E3: Net | H3: Troll1 | K3: Tidal Sport | N3: Freshwater Sport | Q3: Total
B4: LC | C4: Rel. | D4: IM | E4: LC | F4: Rel. | G4: IM | H4: LC | I4: Rel. | J4: IM | K4: LC | L4: Rel. | M4: IM | N4: LC | O4: Rel. | P4: IM | Q4: LC | R4: Rel. | S4: IM
A5: 1975 | E5: 40985 | F5: 0 | G5: 40985 | H5: 135470 | J5: 2303 | Q5: 176455 | R5: 0 | S5: 43288
A6: 1976 | E6: 32669 | F6: 0 | G6: 32669 | H6: 145204 | J6: 2468 | Q6: 177873 | R6: 0 | S6: 35137
A7: 1977 | B7: 6972 | D7: 321 | E7: 32409 | F7: 0 | G7: 32409 | H7: 122689 | J7: 2086 | K7: 4773 | M7: 172 | N7: 1544 | P7: 107 | Q7: 168387 | R7: 0 | S7: 35095
A8: 1978 | B8: 7944 | D8: 365 | E8: 35708 | F8: 0 | G8: 35708 | H8: 91025 | J8: 1547 | K8: 5694 | M8: 205 | N8: 1770 | P8: 122 | Q8: 142141 | R8: 0 | S8: 37947
A9: 1979 | B9: 7585 | D9: 349 | E9: 50445 | F9: 0 | G9: 50445 | H9: 107884 | J9: 1834 | K9: 5225 | M9: 188 | N9: 1940 | P9: 134 | Q9: 173079 | R9: 0 | S9: 52950
A10: 1980 | B10: 6240 | D10: 287 | E10: 27715 | F10: 0 | G10: 27715 | H10: 95377 | J10: 1621 | K10: 4802 | M10: 173 | N10: 988 | P10: 68 | Q10: 135122 | R10: 0 | S10: 29864
A11: 1981 | B11: 5701 | D11: 262 | E11: 18912 | F11: 0 | G11: 18912 | H11: 69247 | J11: 1177 | K11: 3490 | M11: 126 | N11: 1261 | P11: 87 | Q11: 98611 | R11: 0 | S11: 20564
A12: 1982 | B12: 9112 | D12: 419 | E12: 32419 | F12: 0 | G12: 32419 | H12: 69748 | J12: 1186 | K12: 5419 | M12: 195 | N12: 1293 | P12: 89 | Q12: 117991 | R12: 0 | S12: 34308
A13: 1983 | B13: 6442 | D13: 296 | E13: 12556 | F13: 0 | G13: 12556 | H13: 97447 | J13: 1657 | K13: 4271 | M13: 154 | N13: 821 | P13: 57 | Q13: 121537 | R13: 0 | S13: 14720
A14: 1984 | B14: 9736 | D14: 448 | E14: 4630 | F14: 0 | G14: 4630 | H14: 78120 | J14: 1328 | K14: 4354 | M14: 157 | N14: 1332 | P14: 92 | Q14: 98172 | R14: 0 | S14: 6655
A15: 1985 | B15: 6019 | D15: 277 | E15: 12391 | F15: 0 | G15: 12391 | H15: 27090 | J15: 461 | K15: 3943 | M15: 142 | N15: 823 | P15: 57 | Q15: 50266 | R15: 0 | S15: 13328
A16: 1986 | B16: 6353 | D16: 292 | E16: 23032 | F16: 0 | G16: 23032 | H16: 54407 | J16: 925 | K16: 4566 | M16: 164 | N16: 1245 | P16: 86 | Q16: 89603 | R16: 0 | S16: 24499
A17: 1987 | B17: 6296 | D17: 290 | E17: 10893 | F17: 0 | G17: 10893 | H17: 65776 | J17: 1118 | K17: 3933 | M17: 142 | N17: 1563 | P17: 108 | Q17: 88461 | R17: 0 | S17: 12551
A18: 1988 | B18: 6000 | D18: 276 | E18: 12886 | F18: 0 | G18: 12886 | H18: 36125 | J18: 614 | K18: 3596 | M18: 129 | N18: 1496 | P18: 103 | Q18: 60103 | R18: 0 | S18: 14008
... A32: 2002 | B32: 3292 | D32: 151 | E32: 4676 | F32: 0 | G32: 4676 | H32: 482 | J32: 8 | K32: 7330 | M32: 264 | N32: 723 | P32: 50 | Q32: 16503 | R32: 0 | S32: 5149
A33: 2003 | B33: 3173 | D33: 146 | E33: 2815 | F33: 0 | G33: 2815 | H33: 0 | J33: 0 | K33: 8385 | L33: 146 | M33: 325 | N33: 491 | P33: 34 | Q33: 14864 | R33: 146 | S33: 3320
A34: 2004 | B34: 4003 | D34: 184 | E34: 5404 | F34: 0 | G34: 5404 | H34: 0 | J34: 0 | K34: 10677 | L34: 77 | M34: 397 | N34: 524 | P34: 36 | Q34: 20608 | R34: 77 | S34: 6021
A35: 2005 | B35: 4180 | D35: 192 | E35: 6323 | F35: 15281 | G35: 11298 | H35: 0 | J35: 0 | K35: 20581 | L35: 17486 | M35: 3521 | N35: 812 | P35: 56 | Q35: 31896 | R35: 32767 | S35: 15380
A36: 2006 | B36: 4013 | D36: 185 | E36: 5231 | F36: 1391 | G36: 1247 | H36: 0 | I36: 818 | J36: 168 | K36: 22237 | L36: 16215 | M36: 3379 | N36: 870 | P36: 60 | Q36: 32351 | R36: 18424 | S36: 5039
A37: 2007 | B37: 2102 | C37: 0 | D37: 97 | E37: 5542 | F37: 5349 | G37: 4106 | H37: 0 | I37: 1926 | J37: 400 | K37: 15091 | L37: 15511 | M37: 3010 | N37: 522 | O37: 20 | P37: 40 | Q37: 23257 | R37: 22806 | S37: 7653
A38: 2008 | B38: 3018 | C38: 0 | D38: 139 | E38: 1133 | F38: 181 | G38: 182 | H38: 9 | I38: 795 | J38: 164 | K38: 10747 | L38: 16037 | M38: 2937 | N38: 276 | O38: 0 | P38: 19 | Q38: 15183 | R38: 17013 | S38: 3441
A39: 2009 | B39: 4011 | D39: 185 | E39: 3132 | F39: 0 | G39: 144 | H39: 0 | J39: 0 | K39: 11781 | L39: 15651 | M39: 2913 | N39: 550 | P39: 38 | Q39: 19474 | R39: 15651 | S39: 3280
A40: 2010 | B40: 3710 | D40: 171 | E40: 1549 | F40: 0 | G40: 71 | H40: 0 | J40: 0 | K40: 13210 | L40: 15416 | M40: 2927 | N40: 646 | P40: 45 | Q40: 19115 | R40: 15416 | S40: 3214
A41: 2011 | B41: 2323 | D41: 107 | E41: 4794 | F41: 0 | G41: 221 | H41: 0 | J41: 0 | K41: 14032 | L41: 16080 | M41: 3062 | N41: 646 | P41: 45 | Q41: 21795 | R41: 16080 | S41: 3435
A42: 2012 | B42: 1745 | D42: 80 | E42: 3624 | F42: 500 | G42: 533 | H42: 0 | J42: 0 | K42: 9447 | L42: 15393 | M42: 2788 | N42: 524 | P42: 36 | Q42: 15340 | R42: 15893 | S42: 3437
A43: 2013 | B43: 3945 | C43: 0 | D43: 181 | E43: 5301 | F43: 2044 | G43: 1728 | H43: 0 | I43: 453 | J43: 93 | K43: 9146 | L43: 15393 | M43: 2777 | N43: 1506 | P43: 104 | Q43: 19898 | R43: 17890 | S43: 4883
A44: 2014 | B44: 2909 | D44: 134 | E44: 2238 | F44: 498 | G44: 463 | H44: 0 | I44: 0 | J44: 0 | K44: 13525 | L44: 15622 | M44: 2971 | N44: 2134 | P44: 147 | Q44: 20806 | R44: 16120 | S44: 3715
A45: 2015 | B45: 2780 | D45: 128 | E45: 5351 | F45: 1527 | G45: 1370 | H45: 0 | I45: 0 | J45: 0 | K45: 27942 | L45: 16412 | M45: 3615 | N45: 1270 | P45: 88 | Q45: 37343 | R45: 17939 | S45: 5201
A46: 2016 | B46: 1912 | C46: 0 | D46: 88 | E46: 3192 | F46: 1050 | G46: 931 | H46: 0 | I46: 287 | J46: 58 | K46: 20695 | L46: 10370 | M46: 2394 | N46: 1493 | P46: 103 | Q46: 27292 | R46: 11707 | S46: 3574
A47: 2017 | B47: 1907 | D47: 88 | E47: 3119 | F47: 1558 | G47: 1276 | H47: 0 | I47: 2013 | J47: 407 | K47: 22451 | L47: 23648 | M47: 4568 | N47: 977 | P47: 67 | Q47: 28454 | R47: 27219 | S47: 6406
A48: 2018 | B48: 1567 | D48: 72 | E48: 5162 | F48: 1989 | G48: 1684 | H48: 0 | I48: 0 | J48: 0 | K48: 24764 | L48: 20079 | M48: 4084 | N48: 546 | P48: 38 | Q48: 32039 | R48: 22068 | S48: 5878
A49: 2019 | B49: 2045 | D49: 94 | E49: 6092 | F49: 576 | G49: 707 | H49: 0 | I49: 1878 | J49: 419 | K49: 20090 | L49: 17190 | M49: 3456 | N49: 1895 | P49: 131 | Q49: 30122 | R49: 19644 | S49: 4807
A50: 2020 | B50: 1627 | D50: 75 | E50: 4130 | F50: 263 | G50: 380 | H50: 0 | I50: 0 | J50: 0 | K50: 5095 | L50: 3772 | M50: 783 | N50: 559 | O50: 0 | P50: 39 | Q50: 11411 | R50: 4035 | S50: 1277
A51: 2021 | B51: 1593 | D51: 73 | E51: 1684 | F51: 2 | G51: 79 | K51: 8316 | L51: 8185 | M51: 1601 | Q51: 11593 | R51: 8187 | S51: 1753
A52: 2022 | E52: 396 | F52: 0 | G52: 18 | K52: 14907 | L52: 21023 | M52: 3879 | Q52: 15303 | R52: 21023 | S52: 3897
A53: 2023 | B53: 1335 | D53: 61 | E53: 517 | F53: 33 | G53: 48 | K53: 19564 | L53: 18476 | M53: 3642 | Q53: 21416 | R53: 18509 | S53: 3751
...

Sheet A9
A1: Table A9. West Coast Vancouver Island (WCVI) aggregate abundance-based management (AABM) Chinook salmon catches.
A2: Year | B2: West Coast Vancouver Island AABM
B3: Troll1,2 | C3: AABM Sport3 | D3: Total
A4: 1975 | B4: 546214 | D4: 546214
A5: 1976 | B5: 665010 | D5: 665010
A6: 1977 | B6: 545742 | D6: 545742
A7: 1978 | B7: 568705 | D7: 568705
A8: 1979 | B8: 477222 | D8: 477222
A9: 1980 | B9: 486303 | D9: 486303
A10: 1981 | B10: 423266 | D10: 423266
A11: 1982 | B11: 538510 | D11: 538510
A12: 1983 | B12: 395636 | D12: 395636
A13: 1984 | B13: 471294 | D13: 471294
A14: 1985 | B14: 345937 | C14: 23100 | D14: 369037
A15: 1986 | B15: 350227 | C15: 17100 | D15: 367327
A16: 1987 | B16: 378931 | C16: 34800 | D16: 413731
A17: 1988 | B17: 408668 | C17: 12800 | D17: 421468
A18: 1989 | B18: 203751 | C18: 38800 | D18: 242551
A19: 1990 | B19: 297858 | C19: 35000 | D19: 332858
A20: 1991 | B20: 203035 | C20: 39500 | D20: 242535
A21: 1992 | B21: 340146 | C21: 18518 | D21: 358664
A22: 1993 | B22: 277033 | C22: 23312 | D22: 300345
A23: 1994 | B23: 150039 | C23: 10313 | D23: 160352
A24: 1995 | B24: 81454 | C24: 13956 | D24: 95410
A25: 1996 | B25: 4 | C25: 10229 | D25: 10233
... A53: 2024 | B53: 48472 | C53: 47656 | D53: 96128
A54: Note: Troll = Areas 21, 23-27, and 121-127; Sport = Areas 23a, 23b, 24-27
A55: 1Since 1998, the catch accounting year for troll fisheries was set from October 1-September 30. The same catch accounting period was applied for years prior to 1998.
A56: 2Includes First Nations food, social, and ceremonial troll catch, Maanulth Treaty catch, Five Nations (T'aaquiihak) troll catch and Brooks Test fishery catch (Table 1.4)
A57: 3 AABM sport catch 1975­1991 is under review. No estimate available; it is currently included in individual stock-based management (ISBM) catch in Appendix Table A11.

Sheet A10
A1: Table A10. Estimates of incidental mortality associated with West Coast Vancouver Island (WCVI) aggregate abundance-based management (AABM) Chinook salmon catches.
A2: Year1 | B2: Troll2,3 | D2: Outside Sport4 | F2: Total IM
B3: LIM | C3: SIM | D3: LIM | E3: SIM
A4: 1985 | B4: 7261 | C4: 102749 | F4: 110010
A5: 1986 | B5: 5954 | C5: 66075 | F5: 72029
A6: 1987 | B6: 11169 | C6: 148659 | F6: 159828
A7: 1988 | B7: 16284 | C7: 169260 | F7: 185544
A8: 1989 | B8: 3464 | C8: 63325 | F8: 66789
A9: 1990 | B9: 5064 | C9: 91521 | F9: 96585
A10: 1991 | B10: 3452 | C10: 84116 | F10: 87568
A11: 1992 | B11: 5782 | C11: 95731 | F11: 101513
A12: 1993 | B12: 4710 | C12: 84325 | D12: 3078 | E12: 1074 | F12: 93187
A13: 1994 | B13: 2551 | C13: 76372 | D13: 1218 | E13: 475 | F13: 80616
A14: 1995 | B14: 6622 | C14: 45231 | D14: 1531 | E14: 643 | F14: 54027
A15: 1996
A16: 1997
A17: 1998
A18: 1999 | B18: 126 | C18: 721 | D18: 2146 | F18: 2993
A19: 2000 | B19: 1097 | C19: 4100 | D19: 2626 | E19: 3629 | F19: 11452
A20: 2001 | B20: 2321 | C20: 6014 | D20: 4397 | E20: 3271 | F20: 16003
A21: 2002 | B21: 3754 | C21: 5329 | D21: 4540 | E21: 1441 | F21: 15064
A22: 2003 | B22: 2509 | C22: 6126 | D22: 6297 | E22: 1216 | F22: 16148
A23: 2004 | B23: 2995 | C23: 4127 | D23: 5781 | E23: 1053 | F23: 13956
A24: 2005 | B24: 2641 | C24: 4088 | D24: 10732 | E24: 878 | F24: 18339
A25: 2006 | B25: 2565 | C25: 3031 | D25: 7263 | E25: 1161 | F25: 14020
A26: 2007 | B26: 1653 | C26: 3414 | D26: 6741 | E26: 2993 | F26: 14801
A27: 2008 | B27: 1631 | C27: 2863 | D27: 8942 | E27: 1549 | F27: 14985
A28: 2009 | B28: 1059 | C28: 1653 | D28: 9762 | E28: 5350 | F28: 17824
A29: 2010 | B29: 1506 | C29: 1936 | D29: 17732 | E29: 1896 | F29: 23070
A30: 2011 | B30: 2281 | C30: 2313 | D30: 14627 | E30: 2751 | F30: 21972
... A43: 2024 | B43: 851 | C43: 551 | D43: 7316 | E43: 6683 | F43: 15401
A44: 1Release data are not yet available for 1996–1998.
A45: 2Since 1998, the catch accounting year for troll fisheries was set from October 1 to September 30. To make comparisons to previous years more meaningful, the same catch accounting period was applied for years prior to 1998.
A46: 3Includes First Nations food, social, and ceremonial troll catch, Maanulth Treaty catch, Five Nations (T'aaquiihak) troll catch and Brooks Test fishery catch.
A47: 4Before 1992, catch was not reported as inside or outside, thus inside catch for those years represents total tidal sport catch.
A48: Note: Troll = Areas 21, 23-27, and 121-127; Sport = Areas 23a, 23b, 24-27.
A49: Note: LIM = Legal Incident Mortality, SIM = Sublegal Incident Mortality.

Sheet A11
A1: Table A11. West Coast Vancouver Island (WCVI) individual stock-based management (ISBM) Chinook salmon landed catch (LC), releases (Rel.), and incidental mortality (IM).
A2: Year | B2: West Coast Vancouver Island ISBM
B3: First Nations1 | E3: Net | H3: Tidal Sport2 | K3: Freshwater Sport | N3: Total
B4: LC | C4: Rel. | D4: IM | E4: LC | F4: Rel. | G4: IM | H4: LC | I4: Rel. | J4: IM | K4: LC | L4: Rel. | M4: IM | N4: LC | O4: Rel. | P4: IM
A5: 1975 | E5: 19233 | F5: 0 | G5: 19233 | N5: 19233 | O5: 0 | P5: 19233
A6: 1976 | E6: 17492 | F6: 0 | G6: 17492 | N6: 17492 | O6: 0 | P6: 17492
A7: 1977 | E7: 13745 | F7: 0 | G7: 13745 | N7: 13745 | O7: 0 | P7: 13745
A8: 1978 | E8: 25143 | F8: 0 | G8: 25143 | N8: 25143 | O8: 0 | P8: 25143
A9: 1979 | E9: 35623 | F9: 0 | G9: 35623 | N9: 35623 | O9: 0 | P9: 35623
A10: 1980 | E10: 34732 | F10: 0 | G10: 34732 | N10: 34732 | O10: 0 | P10: 34732
A11: 1981 | E11: 36411 | F11: 0 | G11: 36411 | N11: 36411 | O11: 0 | P11: 36411
A12: 1982 | E12: 41172 | F12: 0 | G12: 41172 | N12: 41172 | O12: 0 | P12: 41172
A13: 1983 | E13: 37535 | F13: 0 | G13: 37535 | N13: 37535 | O13: 0 | P13: 37535
A14: 1984 | E14: 43792 | F14: 0 | G14: 43792 | N14: 43792 | O14: 0 | P14: 43792
A15: 1985 | E15: 11089 | F15: 0 | G15: 11089 | N15: 11089 | O15: 0 | P15: 11089
A16: 1986 | E16: 3276 | F16: 0 | G16: 3276 | N16: 3276 | O16: 0 | P16: 3276
A17: 1987 | E17: 478 | F17: 0 | G17: 478 | H17: 3483 | I17: 2689 | J17: 757 | N17: 3961 | O17: 2689 | P17: 1235
A18: 1988 | E18: 15438 | F18: 0 | G18: 15438 | H18: 23020 | I18: 17265 | J18: 4903 | N18: 38458 | O18: 17265 | P18: 20341
A19: 1989 | E19: 40321 | F19: 0 | G19: 40321 | H19: 16439 | I19: 11343 | J19: 3312 | N19: 56760 | O19: 11343 | P19: 43633
A20: 1990 | B20: 1199 | D20: 55 | E20: 29578 | F20: 0 | G20: 29578 | H20: 34723 | I20: 22605 | J20: 6736 | N20: 65500 | O20: 22605 | P20: 36369
A21: 1991 | B21: 41322 | D21: 1901 | E21: 60797 | F21: 0 | G21: 60797 | H21: 46483 | I21: 27518 | J21: 8491 | N21: 148602 | O21: 27518 | P21: 71189
A22: 1992 | B22: 8315 | D22: 382 | E22: 9486 | F22: 0 | G22: 9486 | H22: 46968 | I22: 28322 | J22: 8679 | N22: 64769 | O22: 28322 | P22: 18547
A23: 1993 | B23: 5078 | D23: 234 | E23: 28694 | F23: 0 | G23: 28694 | H23: 65604 | I23: 37263 | J23: 11681 | N23: 99376 | O23: 37263 | P23: 40609
A24: 1994 | B24: 1515 | D24: 70 | E24: 2369 | F24: 0 | G24: 2369 | H24: 52526 | I24: 26000 | J24: 8616 | N24: 56410 | O24: 26000 | P24: 11055
A25: 1995 | B25: 5868 | D25: 270 | E25: 458 | F25: 0 | G25: 458 | H25: 21675 | I25: 9797 | J25: 3377 | N25: 28001 | O25: 9797 | P25: 4105
A26: 1996 | E26: 58 | F26: 0 | G26: 58 | H26: 2266 | I26: 1096 | J26: 367 | N26: 2324 | O26: 1096 | P26: 425
A27: 1997 | B27: 5726 | D27: 263 | E27: 208 | F27: 0 | G27: 208 | H27: 47355 | I27: 24667 | J27: 8004 | N27: 53289 | O27: 24667 | P27: 8475
A28: 1998 | B28: 7172 | D28: 330 | E28: 345 | F28: 0 | G28: 345 | H28: 55697 | I28: 28552 | J28: 9325 | N28: 63214 | O28: 28552 | P28: 10000
A29: 1999 | B29: 3591 | D29: 165 | E29: 112 | F29: 0 | G29: 112 | H29: 47163 | I29: 11319 | J29: 5428 | N29: 50866 | O29: 11319 | P29: 5705
A30: 2000 | E30: 126 | F30: 0 | G30: 126 | H30: 5443 | I30: 13954 | J30: 3055 | N30: 5569 | O30: 13954 | P30: 3181
A31: 2001 | E31: 11 | F31: 0 | G31: 11 | H31: 6354 | I31: 10684 | J31: 2490 | K31: 6198 | M31: 428 | N31: 12563 | O31: 10684 | P31: 2929
A32: 2002 | B32: 10893 | D32: 501 | E32: 260 | F32: 0 | G32: 260 | H32: 36073 | I32: 14629 | J32: 5298 | K32: 77 | M32: 5 | N32: 47303 | O32: 14629 | P32: 6064
A33: 2003 | B33: 10000 | D33: 460 | E33: 9251 | F33: 0 | G33: 9251 | H33: 51186 | I33: 25341 | J33: 8397 | N33: 70437 | O33: 25341 | P33: 18108
A34: 2004 | B34: 15789 | D34: 726 | E34: 12348 | F34: 0 | G34: 12348 | H34: 61218 | I34: 29852 | J34: 9956 | K34: 26 | M34: 2 | N34: 89381 | O34: 29852 | P34: 23032
A35: 2005 | B35: 35000 | D35: 1610 | E35: 23599 | F35: 354 | G35: 4687 | H35: 39869 | I35: 12030 | J35: 5061 | K35: 6225 | M35: 430 | N35: 104693 | O35: 12384 | P35: 11788
A36: 2006 | B36: 26933 | C36: 0 | D36: 1239 | E36: 20308 | F36: 228 | G36: 2584 | H36: 39309 | I36: 12712 | J36: 5153 | N36: 86550 | O36: 12940 | P36: 8976
A37: 2007 | B37: 20098 | D37: 925 | E37: 26881 | F37: 88 | G37: 4031 | H37: 41789 | I37: 15373 | J37: 5835 | N37: 88768 | O37: 15461 | P37: 10791
A38: 2008 | B38: 12159 | C38: 0 | D38: 559 | E38: 8257 | F38: 2 | G38: 2679 | H38: 26308 | I38: 13825 | J38: 4470 | K38: 0 | L38: 0 | M38: 0 | N38: 46724 | O38: 13827 | P38: 7708
A39: 2009 | B39: 9026 | C39: 0 | D39: 415 | E39: 9765 | F39: 0 | G39: 2200 | H39: 27782 | I39: 18395 | J39: 5449 | K39: 0 | L39: 0 | M39: 0 | N39: 46573 | O39: 18395 | P39: 8064
A40: 2010 | B40: 7485 | C40: 0 | D40: 344 | E40: 1747 | F40: 372 | G40: 372 | H40: 27466 | I40: 15274 | J40: 4828 | K40: 0 | L40: 0 | M40: 0 | N40: 36698 | O40: 15646 | P40: 5544
...

Sheet A12
A1: Table A12. Johnstone Strait individual stock-based management (ISBM) Chinook salmon landed catch (LC), releases (Rel.), and incidental mortality (IM).
A2: Year | B2: Johnstone Strait
B3: First Nations | E3: Net | H3: Troll1 | K3: Tidal Sport2 | N3: Total
B4: LC | C4: Rel. | D4: IM | E4: LC | F4: Rel. | G4: IM | H4: LC | I4: Rel. | J4: IM | K4: LC | L4: Rel. | M4: IM | N4: LC | O4: Rel. | P4: IM
A5: 1975 | E5: 30295 | F5: 0 | G5: 1394 | H5: 18065 | J5: 307 | N5: 48360 | O5: 0 | P5: 1701
A6: 1976 | E6: 31855 | F6: 0 | G6: 31855 | H6: 30838 | J6: 524 | N6: 62693 | O6: 0 | P6: 32379
A7: 1977 | E7: 49511 | F7: 0 | G7: 49511 | H7: 26868 | J7: 457 | N7: 76379 | O7: 0 | P7: 49968
A8: 1978 | E8: 55148 | F8: 0 | G8: 55148 | H8: 13052 | J8: 222 | N8: 68200 | O8: 0 | P8: 55370
A9: 1979 | E9: 31291 | F9: 0 | G9: 31291 | H9: 13052 | J9: 222 | N9: 44343 | O9: 0 | P9: 31513
A10: 1980 | E10: 30325 | F10: 0 | G10: 30325 | H10: 11743 | J10: 200 | N10: 42068 | O10: 0 | P10: 30525
A11: 1981 | E11: 28620 | F11: 0 | G11: 28620 | H11: 13035 | J11: 222 | N11: 41655 | O11: 0 | P11: 28842
A12: 1982 | E12: 29454 | F12: 0 | G12: 29454 | H12: 11234 | J12: 191 | N12: 40688 | O12: 0 | P12: 29645
A13: 1983 | E13: 28364 | F13: 0 | G13: 28364 | H13: 14653 | J13: 249 | N13: 43017 | O13: 0 | P13: 28613
A14: 1984 | E14: 18361 | F14: 0 | G14: 18361 | H14: 9260 | J14: 157 | N14: 27621 | O14: 0 | P14: 18518
A15: 1985 | E15: 38073 | F15: 0 | G15: 38073 | H15: 3567 | J15: 61 | N15: 41640 | O15: 0 | P15: 38134
A16: 1986 | E16: 17866 | F16: 0 | G16: 17866 | H16: 3951 | J16: 67 | N16: 21817 | O16: 0 | P16: 17933
... A20: 1990 | E20: 18433 | F20: 0 | G20: 18433 | H20: 2298 | J20: 39 | N20: 20731 | O20: 0 | P20: 18472
A21: 1991 | B21: 1287 | D21: 59 | E21: 15071 | F21: 0 | G21: 15071 | H21: 1228 | J21: 21 | K21: 9311 | M21: 642 | N21: 26897 | O21: 0 | P21: 15793
A22: 1992 | B22: 29 | D22: 1 | E22: 9571 | F22: 0 | G22: 9571 | H22: 2721 | J22: 46 | K22: 15470 | M22: 1067 | N22: 27791 | O22: 0 | P22: 10685
A23: 1993 | B23: 20 | D23: 1 | E23: 15530 | F23: 0 | G23: 15530 | H23: 4172 | J23: 71 | K23: 12679 | M23: 875 | N23: 32401 | O23: 0 | P23: 16477
A24: 1994 | B24: 0 | D24: 0 | E24: 8991 | F24: 0 | G24: 8991 | H24: 2231 | J24: 38 | K24: 5433 | M24: 375 | N24: 16655 | O24: 0 | P24: 9404
A25: 1995 | B25: 71 | D25: 3 | E25: 970 | F25: 0 | G25: 970 | H25: 4 | J25: 0 | K25: 4296 | M25: 296 | N25: 5341 | O25: 0 | P25: 1269
A26: 1996 | B26: 107 | D26: 5 | E26: 472 | F26: 0 | G26: 472 | H26: 0 | J26: 0 | K26: 3057 | M26: 211 | N26: 3636 | O26: 0 | P26: 688
A27: 1997 | B27: 179 | D27: 8 | E27: 1018 | F27: 0 | G27: 1018 | H27: 1246 | J27: 21 | K27: 4047 | M27: 279 | N27: 6490 | O27: 0 | P27: 1326
A28: 1998 | B28: 138 | D28: 6 | E28: 328 | F28: 0 | G28: 328 | H28: 2129 | J28: 36 | K28: 2710 | M28: 187 | N28: 5305 | O28: 0 | P28: 557
A29: 1999 | B29: 469 | D29: 22 | E29: 472 | F29: 0 | G29: 472 | H29: 273 | J29: 5 | K29: 8985 | M29: 620 | N29: 10199 | O29: 0 | P29: 1119
A30: 2000 | B30: 212 | D30: 10 | E30: 280 | F30: 0 | G30: 280 | H30: 85 | J30: 1 | K30: 5960 | M30: 411 | N30: 6537 | O30: 0 | P30: 702
A31: 2001 | B31: 370 | D31: 17 | E31: 332 | F31: 0 | G31: 332 | H31: 453 | J31: 8 | K31: 4150 | M31: 286 | N31: 5305 | O31: 0 | P31: 643
A32: 2002 | B32: 400 | D32: 18 | E32: 569 | F32: 0 | G32: 569 | H32: 129 | J32: 2 | K32: 3696 | M32: 255 | N32: 4794 | O32: 0 | P32: 844
... A34: 2004 | B34: 28 | D34: 1 | E34: 525 | F34: 0 | G34: 525 | H34: 316 | J34: 5 | K34: 16131 | M34: 1113 | N34: 17000 | O34: 0 | P34: 1644
A35: 2005 | E35: 291 | F35: 1925 | G35: 1596 | H35: 2 | J35: 0 | K35: 26430 | L35: 12630 | M35: 4249 | N35: 26723 | O35: 14555 | P35: 5845
A36: 2006 | B36: 200 | D36: 9 | E36: 244 | F36: 5304 | G36: 4073 | H36: 0 | I36: 838 | J36: 189 | K36: 10972 | L36: 7158 | M36: 2131 | N36: 11416 | O36: 13300 | P36: 6402
A37: 2007 | B37: 200 | D37: 9 | E37: 2 | F37: 331 | G37: 304 | H37: 0 | I37: 460 | J37: 107 | K37: 15105 | L37: 8267 | M37: 2629 | N37: 15307 | O37: 9058 | P37: 3049
A38: 2008 | B38: 324 | C38: 0 | D38: 15 | E38: 48 | F38: 447 | G38: 325 | H38: 0 | I38: 0 | J38: 0 | K38: 5836 | L38: 6469 | M38: 1645 | N38: 6208 | O38: 6916 | P38: 1985
A39: 2009 | B39: 344 | C39: 0 | D39: 16 | E39: 597 | F39: 14 | G39: 426 | H39: 0 | J39: 0 | K39: 17429 | L39: 18339 | M39: 4724 | N39: 18370 | O39: 18353 | P39: 5166
A40: 2010 | B40: 250 | D40: 12 | E40: 55 | F40: 2510 | G40: 1983 | H40: 2 | I40: 715 | J40: 169 | K40: 13246 | L40: 11400 | M40: 3103 | N40: 13553 | O40: 14625 | P40: 5267
A41: 2011 | B41: 268 | C41: 0 | D41: 12 | E41: 46 | F41: 2312 | G41: 1710 | H41: 0 | I41: 36 | J41: 7 | K41: 22454 | L41: 7424 | M41: 2975 | N41: 22768 | O41: 9772 | P41: 4704
A42: 2012 | B42: 321 | D42: 15 | E42: 37 | F42: 468 | G42: 346 | H42: 0 | I42: 44 | J42: 9 | K42: 10237 | L42: 10637 | M42: 2749 | N42: 10595 | O42: 11149 | P42: 3119
A43: 2013 | B43: 258 | C43: 0 | D43: 12 | E43: 35 | F43: 241 | G43: 181 | H43: 0 | I43: 0 | J43: 0 | K43: 9501 | L43: 10951 | M43: 2758 | N43: 9794 | O43: 11192 | P43: 2951
A44: 2014 | B44: 1637 | C44: 0 | D44: 75 | E44: 311 | F44: 3634 | G44: 2840 | H44: 0 | I44: 0 | J44: 0 | K44: 10704 | L44: 9379 | M44: 2539 | N44: 12652 | O44: 13013 | P44: 5454
...

Sheet A13
A1: Table A13. Georgia Strait individual stock-based management (ISBM) Chinook salmon landed catch (LC), releases (Rel.), and incidental mortality (IM).
A2: Year | B2: Georgia Strait
B3: First Nations | E3: Net | H3: Troll1 | K3: Tidal Sport2 | N3: Freshwater Sport | Q3: Total
B4: LC | C4: Rel. | D4: IM | E4: LC | F4: Rel. | G4: IM | H4: LC | I4: Rel. | J4: IM | K4: LC | L4: Rel. | M4: IM | N4: LC | O4: Rel. | P4: IM | Q4: LC | R4: Rel. | S4: IM
A5: 1975 | E5: 0 | F5: 0 | G5: 0 | H5: 174001 | J5: 2958 | K5: 398000 | M5: 27462 | Q5: 572001 | R5: 0 | S5: 30420
A6: 1976 | E6: 0 | F6: 0 | G6: 0 | H6: 200229 | J6: 3404 | K6: 490000 | M6: 33810 | Q6: 690229 | R6: 0 | S6: 37214
A7: 1977 | E7: 0 | F7: 0 | G7: 0 | H7: 248082 | J7: 4217 | K7: 372000 | M7: 25668 | Q7: 620082 | R7: 0 | S7: 29885
A8: 1978 | E8: 0 | F8: 0 | G8: 0 | H8: 217955 | J8: 3705 | K8: 500000 | M8: 34500 | Q8: 717955 | R8: 0 | S8: 38205
A9: 1979 | E9: 0 | F9: 0 | G9: 0 | H9: 255057 | J9: 4336 | K9: 350000 | M9: 24150 | Q9: 605057 | R9: 0 | S9: 28486
A10: 1980 | E10: 0 | F10: 0 | G10: 0 | H10: 273077 | J10: 4642 | K10: 204100 | M10: 14083 | Q10: 477177 | R10: 0 | S10: 18725
A11: 1981 | E11: 0 | F11: 0 | G11: 0 | H11: 239266 | J11: 4068 | K11: 197239 | M11: 13609 | Q11: 436505 | R11: 0 | S11: 17677
A12: 1982 | E12: 0 | F12: 0 | G12: 0 | H12: 179040 | J12: 3044 | K12: 124390 | M12: 8583 | Q12: 303430 | R12: 0 | S12: 11627
A13: 1983 | E13: 0 | F13: 0 | G13: 0 | H13: 105133 | J13: 1787 | K13: 198433 | M13: 13692 | Q13: 303566 | R13: 0 | S13: 15479
A14: 1984 | E14: 0 | F14: 0 | G14: 0 | H14: 90280 | J14: 1535 | K14: 369445 | M14: 25492 | Q14: 459725 | R14: 0 | S14: 27027
A15: 1985 | E15: 0 | F15: 0 | G15: 0 | H15: 55888 | J15: 950 | K15: 234838 | M15: 16204 | Q15: 290726 | R15: 0 | S15: 17154
A16: 1986 | E16: 0 | F16: 0 | G16: 0 | H16: 44043 | J16: 749 | K16: 181896 | M16: 12551 | Q16: 225939 | R16: 0 | S16: 13300
... A30: 2000 | E30: 0 | F30: 0 | G30: 0 | H30: 609 | J30: 10 | K30: 32750 | M30: 2260 | Q30: 33359 | R30: 0 | S30: 2270
A31: 2001 | E31: 3 | F31: 708 | G31: 512 | H31: 311 | I31: 169 | J31: 39 | K31: 31259 | M31: 2157 | Q31: 31573 | R31: 877 | S31: 2708
A32: 2002 | E32: 16 | F32: 601 | G32: 446 | H32: 459 | I32: 205 | J32: 49 | K32: 52979 | M32: 3656 | Q32: 53454 | R32: 806 | S32: 4151
A33: 2003 | E33: 18 | F33: 1368 | G33: 999 | H33: 279 | I33: 189 | J33: 43 | K33: 19981 | M33: 1379 | Q33: 20278 | R33: 1557 | S33: 2421
A34: 2004 | E34: 0 | F34: 881 | G34: 645 | H34: 389 | I34: 235 | J34: 54 | K34: 13475 | M34: 930 | Q34: 13864 | R34: 1116 | S34: 1629
A35: 2005 | E35: 20 | F35: 703 | G35: 520 | H35: 0 | I35: 206 | J35: 42 | K35: 48027 | L35: 35119 | M35: 10057 | Q35: 48047 | R35: 36028 | S35: 10619
A36: 2006 | E36: 0 | F36: 3 | G36: 3 | H36: 0 | I36: 3 | J36: 1 | K36: 48269 | L36: 30130 | M36: 9116 | N36: 0 | O36: 776 | P36: 149 | Q36: 48269 | R36: 30912 | S36: 9269
A37: 2007 | E37: 0 | F37: 200 | G37: 144 | H37: 0 | I37: 0 | J37: 0 | K37: 48914 | L37: 50268 | M37: 13026 | N37: 0 | O37: 1252 | P37: 240 | Q37: 48914 | R37: 51720 | S37: 13410
A38: 2008 | B38: 4848 | D38: 223 | E38: 0 | F38: 156 | G38: 112 | H38: 0 | I38: 0 | J38: 0 | K38: 47372 | L38: 34212 | M38: 9837 | N38: 0 | O38: 0 | P38: 0 | Q38: 52220 | R38: 34368 | S38: 10172
A39: 2009 | E39: 239 | F39: 0 | G39: 171 | H39: 0 | I39: 135 | J39: 27 | K39: 49549 | L39: 43627 | M39: 11795 | N39: 0 | O39: 0 | P39: 0 | Q39: 49788 | R39: 43762 | S39: 11993
A40: 2010 | B40: 40 | C40: 0 | D40: 2 | E40: 54 | F40: 1128 | G40: 863 | H40: 5 | I40: 600 | J40: 142 | K40: 49974 | L40: 38589 | M40: 10857 | N40: 0 | O40: 0 | P40: 0 | Q40: 50073 | R40: 40317 | S40: 11864
A41: 2011 | B41: 2379 | C41: 17 | D41: 126 | E41: 3 | F41: 113 | G41: 86 | H41: 0 | I41: 177 | J41: 36 | K41: 50257 | L41: 44919 | M41: 12092 | N41: 0 | O41: 0 | P41: 0 | Q41: 52639 | R41: 45226 | S41: 12340
A42: 2012 | B42: 3096 | D42: 142 | E42: 0 | F42: 0 | G42: 0 | H42: 0 | I42: 0 | J42: 0 | K42: 51603 | L42: 83368 | M42: 19567 | N42: 0 | O42: 0 | P42: 0 | Q42: 54699 | R42: 83368 | S42: 19709
A43: 2013 | B43: 843 | C43: 0 | D43: 39 | E43: 4 | F43: 188 | G43: 138 | H43: 0 | I43: 0 | J43: 0 | K43: 44710 | L43: 117975 | M43: 25736 | N43: 0 | O43: 0 | P43: 0 | Q43: 45557 | R43: 118163 | S43: 25913
A44: 2014 | B44: 28 | C44: 1 | D44: 2 | E44: 0 | F44: 44 | G44: 32 | H44: 0 | I44: 0 | J44: 0 | K44: 55355 | L44: 47809 | M44: 12999 | N44: 0 | O44: 0 | P44: 0 | Q44: 55383 | R44: 47854 | S44: 13033
A45: 2015 | E45: 0 | F45: 13 | G45: 10 | H45: 0 | I45: 17 | J45: 3 | K45: 77995 | L45: 55520 | M45: 16041 | N45: 0 | O45: 0 | P45: 0 | Q45: 77995 | R45: 55550 | S45: 16054
A46: 2016 | B46: 650 | C46: 0 | D46: 30 | E46: 3 | F46: 136 | G46: 115 | H46: 0 | I46: 42 | J46: 8 | K46: 53316 | L46: 101771 | M46: 23219 | N46: 0 | O46: 0 | P46: 0 | Q46: 53969 | R46: 101949 | S46: 23372
A47: 2017 | B47: 1086 | C47: 2 | D47: 52 | E47: 0 | F47: 62 | G47: 47 | H47: 0 | I47: 33 | J47: 7 | K47: 77901 | L47: 135320 | M47: 31357 | N47: 0 | O47: 0 | P47: 0 | Q47: 78987 | R47: 135417 | S47: 31463
A48: 2018 | B48: 1033 | C48: 0 | D48: 48 | E48: 0 | F48: 0 | G48: 0 | H48: 0 | I48: 0 | J48: 0 | K48: 89448 | L48: 119129 | M48: 29045 | N48: 0 | O48: 0 | P48: 0 | Q48: 90481 | R48: 119129 | S48: 29093
A49: 2019 | B49: 1016 | C49: 4 | D49: 51 | E49: 0 | F49: 0 | G49: 0 | H49: 0 | I49: 2 | J49: 0 | K49: 54613 | L49: 187188 | M49: 39708 | N49: 2 | O49: 2157 | P49: 414 | Q49: 55631 | R49: 189351 | S49: 40173
A50: 2020 | B50: 2958 | C50: 0 | D50: 136 | E50: 0 | F50: 7 | G50: 6 | K50: 38029 | L50: 188668 | M50: 38848 | N50: 104 | O50: 3836 | P50: 744 | Q50: 41091 | R50: 192511 | S50: 39734
A51: 2021 | B51: 261 | C51: 3 | D51: 15 | E51: 0 | F51: 0 | G51: 0 | H51: 0 | I51: 45 | J51: 11 | K51: 53312 | L51: 245129 | M51: 50743 | O51: 5149 | P51: 989 | Q51: 53573 | R51: 250326 | S51: 51758
A52: 2022 | B52: 585 | D52: 27 | E52: 1 | F52: 0 | G52: 0 | H52: 0 | I52: 427 | J52: 89 | K52: 68814 | L52: 243110 | M52: 51425 | N52: 0 | O52: 631 | P52: 121 | Q52: 69400 | R52: 244168 | S52: 51662
A53: 2023 | B53: 466 | D53: 21 | E53: 0 | F53: 0 | G53: 0 | H53: 0 | I53: 158 | J53: 33 | K53: 67759 | L53: 179590 | M53: 39157 | N53: 0 | O53: 491 | P53: 94 | Q53: 68225 | R53: 180239 | S53: 39305
...

Sheet A14
A1: Table A14. Fraser River individual stock-based management (ISBM) Chinook salmon landed catch (LC), releases (Rel.), and incidental mortality (IM).
A2: Year | B2: Fraser River Watershed
B3: First Nations1 | E3: Net2 | H3: Freshwater Sport3 | K3: Total
B4: LC | C4: Rel. | D4: IM | E4: LC | F4: Rel. | G4: IM | H4: LC | I4: Rel. | J4: IM | K4: LC | L4: Rel. | M4: IM
A5: 1975 | B5: 20170 | C5: 0 | D5: 928 | E5: 66119 | F5: 0 | G5: 3041 | H5: 7740 | I5: 0 | J5: 534 | K5: 94029 | L5: 0 | M5: 4503
A6: 1976 | B6: 19189 | C6: 0 | D6: 883 | E6: 73018 | F6: 0 | G6: 3359 | H6: 6354 | I6: 0 | J6: 438 | K6: 98561 | L6: 0 | M6: 4680
A7: 1977 | B7: 23310 | C7: 0 | D7: 1072 | E7: 85222 | F7: 0 | G7: 3920 | H7: 3071 | I7: 0 | J7: 212 | K7: 111603 | L7: 0 | M7: 5204
A8: 1978 | B8: 19541 | C8: 0 | D8: 899 | E8: 50247 | F8: 0 | G8: 2311 | H8: 3627 | I8: 0 | J8: 250 | K8: 73415 | L8: 0 | M8: 3460
A9: 1979 | B9: 10217 | C9: 0 | D9: 470 | E9: 51488 | F9: 0 | G9: 2368 | H9: 4450 | I9: 0 | J9: 307 | K9: 66155 | L9: 0 | M9: 3145
A10: 1980 | B10: 10528 | C10: 0 | D10: 484 | E10: 40061 | F10: 0 | G10: 1843 | H10: 7 | I10: 0 | J10: 0 | K10: 50596 | L10: 0 | M10: 2327
A11: 1981 | B11: 8389 | C11: 0 | D11: 386 | E11: 22447 | F11: 0 | G11: 1033 | H11: 0 | I11: 0 | J11: 0 | K11: 30836 | L11: 0 | M11: 1419
A12: 1982 | B12: 29043 | C12: 0 | D12: 1336 | E12: 23792 | F12: 0 | G12: 1094 | H12: 96 | I12: 0 | J12: 7 | K12: 52931 | L12: 0 | M12: 2437
A13: 1983 | B13: 11875 | C13: 0 | D13: 546 | E13: 25580 | F13: 0 | G13: 1177 | H13: 0 | I13: 0 | J13: 0 | K13: 37455 | L13: 0 | M13: 1723
A14: 1984 | B14: 17111 | C14: 0 | D14: 787 | E14: 27929 | F14: 0 | G14: 1285 | H14: 80 | I14: 0 | J14: 6 | K14: 45120 | L14: 0 | M14: 2078
A15: 1985 | B15: 8387 | C15: 0 | D15: 386 | E15: 28894 | F15: 0 | G15: 1329 | H15: 596 | I15: 0 | J15: 41 | K15: 37877 | L15: 0 | M15: 1756
A16: 1986 | B16: 12274 | C16: 0 | D16: 565 | E16: 31401 | F16: 0 | G16: 1444 | H16: 1421 | I16: 0 | J16: 98 | K16: 45096 | L16: 0 | M16: 2107
... A54: 2024 | B54: 36828 | C54: 65 | D54: 1756 | E54: 4106 | F54: 324 | G54: 495 | H54: 34872 | I54: 41137 | J54: 10304 | K54: 75806 | L54: 41526 | M54: 12555
A55: 1First Nations Chinook salmon catch includes food, social and ceremonial from the mainstem and tributaries. Economic opportunity included in commercial net.
A56: 2Fraser River net includes commercial Area E Gillnet, test fisheries, First Nations economic opportunities and scientific licenses.
A57: 3Freshwater sport catch includes Fraser mainstem and tributary Chinook salmon catch (adults only).

Sheet A15
A1: Table A15. Canada: Strait of Juan de Fuca individual stock-based management (ISBM) Chinook salmon landed catch (LC), releases (Rel.), and incidental mortality (IM).
A2: Year | B2: Canada – Strait of Juan de Fuca
B3: First Nations | E3: Net | H3: Tidal Sport | K3: Total
B4: LC | C4: Rel. | D4: IM | E4: LC | F4: Rel. | G4: IM | H4: LC | I4: Rel. | J4: IM | K4: LC | L4: Rel. | M4: IM
A5: 1975 | E5: 9799 | F5: 0 | G5: 9799 | K5: 9799 | L5: 0 | M5: 9799
A6: 1976 | E6: 13004 | F6: 0 | G6: 13004 | K6: 13004 | L6: 0 | M6: 13004
A7: 1977 | E7: 25344 | F7: 0 | G7: 25344 | K7: 25344 | L7: 0 | M7: 25344
A8: 1978 | E8: 9725 | F8: 0 | G8: 9725 | K8: 9725 | L8: 0 | M8: 9725
A9: 1979 | E9: 8665 | F9: 0 | G9: 8665 | K9: 8665 | L9: 0 | M9: 8665
A10: 1980 | E10: 3438 | F10: 0 | G10: 3438 | H10: 37900 | J10: 2615 | K10: 41338 | L10: 0 | M10: 6053
A11: 1981 | E11: 9982 | F11: 0 | G11: 9982 | H11: 29832 | J11: 2058 | K11: 39814 | L11: 0 | M11: 12040
A12: 1982 | E12: 7072 | F12: 0 | G12: 7072 | H12: 30646 | J12: 2115 | K12: 37718 | L12: 0 | M12: 9187
A13: 1983 | E13: 328 | F13: 0 | G13: 328 | H13: 30228 | J13: 2086 | K13: 30556 | L13: 0 | M13: 2414
A14: 1984 | E14: 6237 | F14: 0 | G14: 6237 | H14: 24353 | J14: 1680 | K14: 30590 | L14: 0 | M14: 7917
A15: 1985 | E15: 17164 | F15: 0 | G15: 17164 | H15: 27843 | J15: 1921 | K15: 45007 | L15: 0 | M15: 19085
A16: 1986 | E16: 17727 | F16: 0 | G16: 17727 | H16: 34387 | J16: 2373 | K16: 52114 | L16: 0 | M16: 20100
A17: 1987 | E17: 6782 | F17: 0 | G17: 6782 | H17: 24878 | J17: 1717 | K17: 31660 | L17: 0 | M17: 8499
A18: 1988 | E18: 4473 | F18: 0 | G18: 4473 | H18: 31233 | J18: 2155 | K18: 35706 | L18: 0 | M18: 6628
A19: 1989 | E19: 21238 | F19: 0 | G19: 21238 | H19: 32539 | J19: 2245 | K19: 53777 | L19: 0 | M19: 23483
A20: 1990 | B20: 42 | D20: 2 | E20: 7405 | F20: 0 | G20: 7405 | H20: 30127 | J20: 2079 | K20: 37574 | L20: 0 | M20: 9486
A21: 1991 | B21: 250 | D21: 12 | E21: 8893 | F21: 0 | G21: 8893 | H21: 19017 | J21: 1312 | K21: 28160 | L21: 0 | M21: 10217
A22: 1992 | B22: 302 | D22: 14 | E22: 10023 | F22: 0 | G22: 10023 | H22: 21090 | J22: 1455 | K22: 31415 | L22: 0 | M22: 11492
A23: 1993 | B23: 317 | D23: 15 | E23: 2287 | F23: 0 | G23: 2287 | H23: 13967 | J23: 964 | K23: 16571 | L23: 0 | M23: 3266
A24: 1994 | B24: 600 | D24: 28 | E24: 8931 | F24: 0 | G24: 8931 | H24: 14372 | J24: 992 | K24: 23903 | L24: 0 | M24: 9951
A25: 1995 | B25: 751 | D25: 35 | E25: 631 | F25: 0 | G25: 631 | H25: 14405 | J25: 994 | K25: 15787 | L25: 0 | M25: 1660
A26: 1996 | B26: 20 | D26: 1 | E26: 655 | F26: 0 | G26: 655 | H26: 19012 | J26: 1312 | K26: 19687 | L26: 0 | M26: 1968
A27: 1997 | B27: 42 | D27: 2 | E27: 657 | F27: 0 | G27: 657 | H27: 17080 | J27: 1179 | K27: 17779 | L27: 0 | M27: 1838
A28: 1998 | B28: 1500 | D28: 69 | E28: 495 | F28: 0 | G28: 495 | H28: 9709 | J28: 670 | K28: 11704 | L28: 0 | M28: 1234
A29: 1999 | B29: 53 | D29: 2 | E29: 771 | F29: 0 | G29: 771 | H29: 14808 | J29: 1022 | K29: 15632 | L29: 0 | M29: 1795
A30: 2000 | B30: 273 | D30: 13 | E30: 199 | F30: 0 | G30: 199 | H30: 10973 | J30: 757 | K30: 11445 | L30: 0 | M30: 969
A31: 2001 | B31: 136 | D31: 6 | E31: 439 | F31: 0 | G31: 439 | H31: 23463 | J31: 1619 | K31: 24038 | L31: 0 | M31: 2064
A32: 2002 | B32: 0 | E32: 345 | F32: 0 | G32: 345 | H32: 24084 | J32: 1662 | K32: 24429 | L32: 0 | M32: 2007
A33: 2003 | B33: 0 | E33: 292 | F33: 0 | G33: 292 | H33: 26630 | J33: 1837 | K33: 26922 | L33: 0 | M33: 2129
A34: 2004 | B34: 0 | E34: 187 | F34: 0 | G34: 187 | H34: 40877 | J34: 2821 | K34: 41064 | L34: 0 | M34: 3008
A35: 2005 | B35: 0 | E35: 153 | F35: 0 | G35: 110 | H35: 27241 | I35: 20824 | J35: 5878 | K35: 27394 | L35: 20824 | M35: 5988
A36: 2006 | B36: 0 | E36: 155 | F36: 801 | G36: 606 | H36: 24765 | I36: 16216 | J36: 4822 | K36: 24920 | L36: 17017 | M36: 5428
A37: 2007 | B37: 0 | E37: 138 | F37: 690 | G37: 534 | H37: 26843 | I37: 22824 | J37: 6234 | K37: 26981 | L37: 23514 | M37: 6768
A38: 2008 | B38: 0 | E38: 172 | F38: 573 | G38: 442 | H38: 23122 | I38: 18695 | J38: 5185 | K38: 23294 | L38: 19268 | M38: 5627
A39: 2009 | B39: 0 | E39: 385 | F39: 0 | G39: 277 | H39: 26132 | I39: 54947 | J39: 12353 | K39: 26517 | L39: 54947 | M39: 12630
A40: 2010 | B40: 0 | E40: 206 | F40: 1239 | G40: 920 | H40: 20011 | I40: 16397 | J40: 4529 | K40: 20217 | L40: 17636 | M40: 5449
...

Sheet A16
A1: Table A16. Washington: Strait of Juan de Fuca individual stock-based management (ISBM) Chinook salmon landed catch (LC), releases (Rel.), and incidental mortality (IM).
A2: Year1 | B2: Washington – Strait of Juan de Fuca
B3: Troll | E3: Net | H3: Sport | K3: Total
B4: LC | C4: Rel. | D4: IM | E4: LC | F4: Rel. | G4: IM | H4: LC | I4: Rel. | J4: IM | K4: LC | L4: Rel. | M4: IM
A5: 1975 | B5: 5762 | D5: 144 | E5: 8048 | G5: 644 | H5: 81681 | J5: 11844 | K5: 95491 | M5: 12632
A6: 1976 | B6: 10486 | D6: 262 | E6: 6072 | G6: 486 | H6: 75308 | J6: 10920 | K6: 91866 | M6: 11668
A7: 1977 | B7: 8958 | D7: 224 | E7: 16794 | G7: 1344 | H7: 53238 | J7: 7720 | K7: 78990 | M7: 9288
A8: 1978 | B8: 10002 | D8: 250 | E8: 12676 | G8: 1014 | H8: 62299 | J8: 9033 | K8: 84977 | M8: 10297
A9: 1979 | B9: 7575 | D9: 189 | E9: 13479 | G9: 1078 | H9: 67094 | J9: 9729 | K9: 88148 | M9: 10996
A10: 1980 | B10: 10688 | D10: 267 | E10: 12753 | G10: 1020 | H10: 56415 | J10: 8180 | K10: 79856 | M10: 9467
A11: 1981 | B11: 15644 | D11: 391 | E11: 21607 | G11: 1729 | H11: 51352 | J11: 7446 | K11: 88603 | M11: 9566
A12: 1982 | B12: 18952 | D12: 474 | E12: 25490 | G12: 2039 | H12: 29842 | J12: 4327 | K12: 74284 | M12: 6840
A13: 1983 | B13: 18468 | D13: 462 | E13: 16761 | G13: 1341 | H13: 58060 | J13: 8419 | K13: 93289 | M13: 10222
A14: 1984 | B14: 15805 | D14: 395 | E14: 12377 | G14: 990 | H14: 48003 | J14: 6960 | K14: 76185 | M14: 8345
A15: 1985 | B15: 12759 | D15: 319 | E15: 12965 | G15: 1037 | H15: 44267 | J15: 6419 | K15: 69991 | M15: 7775
A16: 1986 | B16: 30346 | D16: 759 | E16: 17228 | G16: 1378 | H16: 69000 | J16: 10005 | K16: 116574 | M16: 12142
... A32: 2002 | B32: 1783 | D32: 45 | E32: 1074 | G32: 86 | H32: 2028 | J32: 294 | K32: 4885 | M32: 425
A33: 2003 | B33: 436 | D33: 11 | E33: 908 | G33: 73 | H33: 5290 | I33: 28201 | J33: 8325 | K33: 6634 | L33: 28201 | M33: 8409
A34: 2004 | B34: 20756 | D34: 519 | E34: 593 | G34: 47 | H34: 4519 | I34: 22028 | J34: 6559 | K34: 25868 | L34: 22028 | M34: 7125
A35: 2005 | B35: 5350 | D35: 134 | E35: 175 | G35: 14 | H35: 2700 | I35: 10209 | J35: 3128 | K35: 8225 | L35: 10209 | M35: 3276
A36: 2006 | B36: 1056 | D36: 26 | E36: 994 | G36: 80 | H36: 5695 | I36: 14588 | J36: 4735 | K36: 7745 | L36: 14588 | M36: 4841
A37: 2007 | B37: 4346 | D37: 109 | E37: 109 | G37: 9 | H37: 6967 | I37: 29409 | J37: 8892 | K37: 11422 | L37: 29409 | M37: 9010
A38: 2008 | B38: 1816 | D38: 45 | E38: 4579 | G38: 366 | H38: 4844 | I38: 16157 | J38: 7302 | K38: 11239 | L38: 16157 | M38: 7713
A39: 2009 | B39: 3359 | D39: 84 | E39: 99 | G39: 8 | H39: 11167 | I39: 56057 | J39: 8576 | K39: 14625 | L39: 56057 | M39: 8668
A40: 2010 | B40: 2216 | D40: 55 | E40: 2220 | G40: 178 | H40: 11508 | I40: 26823 | J40: 16748 | K40: 15944 | L40: 26823 | M40: 16981
A41: 2011 | B41: 3818 | D41: 95 | E41: 359 | G41: 29 | H41: 9504 | I41: 22103 | J41: 8321 | K41: 13681 | L41: 22103 | M41: 8445
A42: 2012 | B42: 2350 | D42: 59 | E42: 1544 | G42: 124 | H42: 13854 | I42: 24504 | J42: 7867 | K42: 17748 | L42: 24504 | M42: 8050
A43: 2013 | B43: 3295 | D43: 82 | E43: 511 | G43: 41 | H43: 14900 | I43: 54432 | J43: 8751 | K43: 18706 | L43: 54432 | M43: 8874
A44: 2014 | B44: 4512 | D44: 113 | E44: 1314 | G44: 105 | H44: 11059 | I44: 25065 | J44: 8321 | K44: 16885 | L44: 25065 | M44: 8539
... A54: 2024 | B54: 6511 | D54: 163 | E54: 591 | G54: 47 | H54: 13070 | I54: 25701 | J54: 8783 | K54: 20172 | L54: 25701 | M54: 8993
A55: Note: Troll: Areas 5, 6, and 6C; Area 4B from January 1 – April 30 and October 1 – December 31; Net = Areas 4B, 5, 6, and 6C; Sport = Areas 5 and 6, 4B Neah Bay “add-on” fishery.
A56: Note: NA = Not available; for fisheries without estimate of releases, IM is drop-off/dropout only.
A57: 1 Current year not available for sport; values are average of previous three years.

Sheet A17
A1: Table A17. Washington: San Juan individual stock-based management (ISBM) Chinook salmon landed catch (LC), releases (Rel.), and incidental mortality (IM).
A2: Year1 | B2: Washington – San Juan
B3: Troll | E3: Net | H3: Sport | K3: Total
